BEGIN:VCALENDAR
VERSION:2.0
PRODID:-// - ECPv6.15.20//NONSGML v1.0//EN
CALSCALE:GREGORIAN
METHOD:PUBLISH
X-ORIGINAL-URL:https://soccadream.com
X-WR-CALDESC:Events for 
REFRESH-INTERVAL;VALUE=DURATION:PT1H
X-Robots-Tag:noindex
X-PUBLISHED-TTL:PT1H
BEGIN:VTIMEZONE
TZID:Africa/Harare
BEGIN:STANDARD
TZOFFSETFROM:+0200
TZOFFSETTO:+0200
TZNAME:CAT
DTSTART:20240101T000000
END:STANDARD
END:VTIMEZONE
BEGIN:VEVENT
DTSTART;TZID=Africa/Harare:20250328T080000
DTEND;TZID=Africa/Harare:20250401T170000
DTSTAMP:20260423T180331
CREATED:20250207T162304Z
LAST-MODIFIED:20250207T162304Z
UID:436-1743148800-1743526800@soccadream.com
SUMMARY:Pirates Cup
DESCRIPTION:
URL:https://soccadream.com/upcoming-events/pirates-cup/
LOCATION:Marks Park\, Johannesburg\, Gauteng\, South Africa
END:VEVENT
END:VCALENDAR